View In:
ArcGIS JavaScript
ArcGIS Online Map Viewer
ArcGIS Earth
Service Description: This HILLSHADE Model was derived using the HILLSHADE tool in ArcGIS 9.2. The source data is described below:
The U.S. Geological Survey has developed a National Elevation Dataset (NED). The NED is a seamless mosaic of best-available elevation data. The 7.5-minute elevation data for the conterminous United States are the primary initial source data. In addition to the availability of complete 7.5-minute data, efficient processing methods were developed to filter production artifacts in the existing data, convert to the NAD83 datum, edge-match, and fill slivers of missing data at quadrangle seams. One of the effects of the NED processing steps is a much-improved base of elevation data for calculating slope and hydrologic derivatives. The specifications for the NED 1 arc second and 1/3 arc second data are: Geographic coordinate system Horizontal datum of NAD83, except for AK which is NAD27 Vertical datum of NAVD88, except for AK which is NAVD29 Z units of meters NOTE: MONTEREY COUNTY STAFF HAS REPROJECTED THIS DATA TO CA STATE PLANE ZONE 0404 (SURVEY FEET), AND CONVERTED THE Z VALUES TO TO U.S. SURVEY FEET.
Name: Image_Services/USGS_Hillshade
Description: This HILLSHADE Model was derived using the HILLSHADE tool in ArcGIS 9.2. The source data is described below:
The U.S. Geological Survey has developed a National Elevation Dataset (NED). The NED is a seamless mosaic of best-available elevation data. The 7.5-minute elevation data for the conterminous United States are the primary initial source data. In addition to the availability of complete 7.5-minute data, efficient processing methods were developed to filter production artifacts in the existing data, convert to the NAD83 datum, edge-match, and fill slivers of missing data at quadrangle seams. One of the effects of the NED processing steps is a much-improved base of elevation data for calculating slope and hydrologic derivatives. The specifications for the NED 1 arc second and 1/3 arc second data are: Geographic coordinate system Horizontal datum of NAD83, except for AK which is NAD27 Vertical datum of NAVD88, except for AK which is NAVD29 Z units of meters NOTE: MONTEREY COUNTY STAFF HAS REPROJECTED THIS DATA TO CA STATE PLANE ZONE 0404 (SURVEY FEET), AND CONVERTED THE Z VALUES TO TO U.S. SURVEY FEET.
Single Fused Map Cache: false
Extent:
XMin: 5500043.65912793
YMin: 1561552.263563023
XMax: 6429733.391353697
YMax: 2464076.69606465
Spatial Reference: 102644
(2228)
LatestVCSWkid(0)
Initial Extent:
XMin: 5500043.65912793
YMin: 1561552.263563023
XMax: 6429733.391353697
YMax: 2464076.69606465
Spatial Reference: 102644
(2228)
LatestVCSWkid(0)
Full Extent:
XMin: 5500043.65912793
YMin: 1561552.263563023
XMax: 6429733.391353697
YMax: 2464076.69606465
Spatial Reference: 102644
(2228)
LatestVCSWkid(0)
Pixel Size X: 32.808333000168204
Pixel Size Y: 32.808333000168204
Band Count: 1
Pixel Type: S16
RasterFunction Infos: {"rasterFunctionInfos": [{
"name": "None",
"description": "",
"help": ""
}]}
Mensuration Capabilities: Basic
Inspection Capabilities:
Has Histograms: true
Has Colormap: false
Has Multi Dimensions : false
Rendering Rule:
Min Scale: 0
Max Scale: 0
Resampling: false
Copyright Text:
Service Data Type: esriImageServiceDataTypeGeneric
Min Values: 0
Max Values: 254
Mean Values: 175.82113064787333
Standard Deviation Values: 27.01513735226662
Object ID Field:
Fields:
None
Default Mosaic Method: Center
Allowed Mosaic Methods:
SortField:
SortValue: null
Mosaic Operator: First
Default Compression Quality: 75
Default Resampling Method: Bilinear
Max Record Count: null
Max Image Height: 4100
Max Image Width: 15000
Max Download Image Count: null
Max Mosaic Image Count: null
Allow Raster Function: true
Allow Copy: true
Allow Analysis: true
Allow Compute TiePoints: false
Supports Statistics: false
Supports Advanced Queries: false
Use StandardizedQueries: true
Raster Type Infos:
Name: Raster Dataset
Description: Supports all ArcGIS Raster Datasets
Help:
Has Raster Attribute Table: true
Edit Fields Info: null
Ownership Based AccessControl For Rasters: null
Child Resources:
Info
Raster Attribute Table
Histograms
Statistics
Key Properties
Legend
Raster Function Infos
Supported Operations:
Export Image
Identify
Measure
Compute Histograms
Compute Statistics Histograms
Get Samples
Compute Class Statistics
Query Boundary
Compute Pixel Location
Compute Angles
Validate
Project