{
 "currentVersion": 11.5,
 "serviceDescription": "This HILLSHADE Model was derived using the HILLSHADE tool in ArcGIS 9.2. The source data is described below:\nThe U.S. Geological Survey has developed a National Elevation Dataset (NED). \t\tThe NED is a seamless mosaic of best-available elevation data. The 7.5-minute \t\televation data for the conterminous United States are the primary initial source \t\tdata. In addition to the availability of complete 7.5-minute data, efficient \t\tprocessing methods were developed to filter production artifacts in the existing \t\tdata, convert to the NAD83 datum, edge-match, and fill slivers of missing data \t\tat quadrangle seams. One of the effects of the NED processing steps is a \t\tmuch-improved base of elevation data for calculating slope and hydrologic \t\tderivatives. The specifications for the NED 1 arc second and 1/3 arc second data \t\tare: \t\tGeographic coordinate system\t\tHorizontal datum of NAD83, except for AK which is NAD27 \t\tVertical datum of NAVD88, except for AK which is NAVD29 \t\tZ units of meters NOTE: MONTEREY COUNTY STAFF HAS REPROJECTED THIS DATA TO CA STATE PLANE ZONE 0404 (SURVEY FEET), AND CONVERTED THE Z VALUES TO TO U.S. SURVEY FEET.",
 "serviceItemId": "aa9158df82c44601ab7ef0621d8995ce",
 "name": "Image_Services/USGS_Hillshade",
 "description": "This HILLSHADE Model was derived using the HILLSHADE tool in ArcGIS 9.2. The source data is described below:\nThe U.S. Geological Survey has developed a National Elevation Dataset (NED). \t\tThe NED is a seamless mosaic of best-available elevation data. The 7.5-minute \t\televation data for the conterminous United States are the primary initial source \t\tdata. In addition to the availability of complete 7.5-minute data, efficient \t\tprocessing methods were developed to filter production artifacts in the existing \t\tdata, convert to the NAD83 datum, edge-match, and fill slivers of missing data \t\tat quadrangle seams. One of the effects of the NED processing steps is a \t\tmuch-improved base of elevation data for calculating slope and hydrologic \t\tderivatives. The specifications for the NED 1 arc second and 1/3 arc second data \t\tare: \t\tGeographic coordinate system\t\tHorizontal datum of NAD83, except for AK which is NAD27 \t\tVertical datum of NAVD88, except for AK which is NAVD29 \t\tZ units of meters NOTE: MONTEREY COUNTY STAFF HAS REPROJECTED THIS DATA TO CA STATE PLANE ZONE 0404 (SURVEY FEET), AND CONVERTED THE Z VALUES TO TO U.S. SURVEY FEET.",
 "extent": {
  "xmin": 5500043.65912793,
  "ymin": 1561552.263563023,
  "xmax": 6429733.391353697,
  "ymax": 2464076.69606465,
  "spatialReference": {
   "wkid": 102644,
   "latestWkid": 2228
  }
 },
 "initialExtent": {
  "xmin": 5500043.65912793,
  "ymin": 1561552.263563023,
  "xmax": 6429733.391353697,
  "ymax": 2464076.69606465,
  "spatialReference": {
   "wkid": 102644,
   "latestWkid": 2228
  }
 },
 "fullExtent": {
  "xmin": 5500043.65912793,
  "ymin": 1561552.263563023,
  "xmax": 6429733.391353697,
  "ymax": 2464076.69606465,
  "spatialReference": {
   "wkid": 102644,
   "latestWkid": 2228
  }
 },
 "sortableFields": "",
 "bandCount": 1,
 "pixelType": "S16",
 "minValues": [
  0
 ],
 "maxValues": [
  254
 ],
 "meanValues": [
  175.82113064787333
 ],
 "stdvValues": [
  27.01513735226662
 ],
 "serviceProperties": "Center<\/MosaicMethod>First<\/MosaicOperator>true<\/SortAscending><\/LockImageID><\/TileOrderField>0<\/TileOrderBase>0.000000<\/AvgImageSpacingX>0.000000<\/AvgImageSpacingY>0.0<\/ViewPointX>0.0<\/ViewPointY>0.0<\/ViewPointDefShiftX>0.0<\/ViewPointDefShiftY>None<\/CompressionMethod>75<\/CompressionQuality>0.010000<\/CompressionTolerance>Bilinear<\/SamplingMethod><\/ImageServiceProperties><\/ImageServer>",
 "allowedFields": "",
 "hasMultidimensions": false,
 "pixelSizeX": 32.808333000168204,
 "pixelSizeY": 32.808333000168204,
 "meanPixelSize": 9.999999898451067,
 "datasetFormat": "SDR",
 "uncompressedSize": 1559045066,
 "blockWidth": 128,
 "blockHeight": 128,
 "compressionType": "LZ77",
 "bandNames": [
  "Band_1"
 ],
 "allowCopy": true,
 "allowAnalysis": true,
 "itemAccess": false,
 "inspectionCapabilities": "",
 "minPixelSize": 0,
 "maxPixelSize": 0,
 "copyrightText": "",
 "serviceDataType": "esriImageServiceDataTypeGeneric",
 "serviceSourceType": "esriImageServiceSourceTypeDataset",
 "objectIdField": "",
 "fields": [],
 "capabilities": "Mensuration,Image,Metadata",
 "defaultMosaicMethod": "Center",
 "allowedMosaicMethods": "",
 "sortField": "",
 "sortValue": null,
 "sortAscending": true,
 "mosaicOperator": "First",
 "defaultCompressionQuality": 75,
 "defaultResamplingMethod": "Bilinear",
 "maxImageHeight": 4100,
 "maxImageWidth": 15000,
 "allowRasterFunction": true,
 "rasterFunctionInfos": [
  {
   "name": "None",
   "description": "",
   "help": ""
  }
 ],
 "rasterTypeInfos": [
  {
   "name": "Raster Dataset",
   "description": "Supports all ArcGIS Raster Datasets",
   "help": ""
  }
 ],
 "mensurationCapabilities": "Basic",
 "hasHistograms": true,
 "hasColormap": false,
 "hasRasterAttributeTable": true,
 "minScale": 0,
 "maxScale": 0,
 "exportTilesAllowed": false,
 "supportsStatistics": false,
 "supportsAdvancedQueries": false,
 "editFieldsInfo": null,
 "ownershipBasedAccessControlForRasters": null,
 "allowComputeTiePoints": false,
 "useStandardizedQueries": true,
 "advancedQueryCapabilities": {
  "useStandardizedQueries": true,
  "supportsStatistics": false,
  "supportsOrderBy": false,
  "supportsDistinct": false,
  "supportsPagination": false
 },
 "spatialReference": {
  "wkid": 102644,
  "latestWkid": 2228
 },
 "resampling": false
}
