{
 "currentVersion": 11.5,
 "serviceDescription": "Image_Services/USGS_7_5_Min_Topo_Quads",
 "serviceItemId": "8c90114cbd8b4013aef373746b3ebb9b",
 "name": "Image_Services/USGS_7_5_Min_Topo_Quads",
 "description": "",
 "extent": {
  "xmin": 5676904.247432338,
  "ymin": 1794050.993145694,
  "xmax": 6228605.899946956,
  "ymax": 2259739.0381360003,
  "spatialReference": {
   "wkid": 102644,
   "latestWkid": 2228
  }
 },
 "initialExtent": {
  "xmin": 5676904.247432338,
  "ymin": 1794050.993145694,
  "xmax": 6228605.899946956,
  "ymax": 2259739.0381360003,
  "spatialReference": {
   "wkid": 102644,
   "latestWkid": 2228
  }
 },
 "fullExtent": {
  "xmin": 5676904.247432338,
  "ymin": 1794050.993145694,
  "xmax": 6228605.899946956,
  "ymax": 2259739.0381360003,
  "spatialReference": {
   "wkid": 102644,
   "latestWkid": 2228
  }
 },
 "sortableFields": "",
 "bandCount": 3,
 "pixelType": "U8",
 "minValues": [],
 "maxValues": [],
 "meanValues": [],
 "stdvValues": [],
 "serviceProperties": "Center<\/MosaicMethod>First<\/MosaicOperator>true<\/SortAscending><\/LockImageID><\/TileOrderField>0<\/TileOrderBase>0.000000<\/AvgImageSpacingX>0.000000<\/AvgImageSpacingY>0.0<\/ViewPointX>0.0<\/ViewPointY>0.0<\/ViewPointDefShiftX>0.0<\/ViewPointDefShiftY>None<\/CompressionMethod>75<\/CompressionQuality>0.010000<\/CompressionTolerance>Bilinear<\/SamplingMethod><\/ImageServiceProperties><\/ImageServer>",
 "allowedFields": "",
 "hasMultidimensions": false,
 "pixelSizeX": 9.842500000260786,
 "pixelSizeY": 9.84249999979512,
 "meanPixelSize": 3.0000000000085207,
 "datasetFormat": "SDR",
 "uncompressedSize": 7956106767,
 "blockWidth": 128,
 "blockHeight": 128,
 "compressionType": "LZ77",
 "bandNames": [
  "Band_1"
 ],
 "allowCopy": true,
 "allowAnalysis": true,
 "itemAccess": false,
 "inspectionCapabilities": "",
 "noDataValue": 256,
 "noDataValues": [
  256,
  256,
  256
 ],
 "minPixelSize": 0,
 "maxPixelSize": 0,
 "copyrightText": "",
 "serviceDataType": "esriImageServiceDataTypeRGB",
 "serviceSourceType": "esriImageServiceSourceTypeDataset",
 "objectIdField": "",
 "fields": [],
 "capabilities": "Mensuration,Image,Metadata",
 "defaultMosaicMethod": "Center",
 "allowedMosaicMethods": "",
 "sortField": "",
 "sortValue": null,
 "sortAscending": true,
 "mosaicOperator": "First",
 "defaultCompressionQuality": 75,
 "defaultResamplingMethod": "Bilinear",
 "maxImageHeight": 4100,
 "maxImageWidth": 15000,
 "allowRasterFunction": true,
 "rasterFunctionInfos": [
  {
   "name": "None",
   "description": "",
   "help": ""
  }
 ],
 "rasterTypeInfos": [
  {
   "name": "Raster Dataset",
   "description": "Supports all ArcGIS Raster Datasets",
   "help": ""
  }
 ],
 "mensurationCapabilities": "Basic",
 "hasHistograms": false,
 "hasColormap": false,
 "hasRasterAttributeTable": false,
 "minScale": 0,
 "maxScale": 0,
 "exportTilesAllowed": false,
 "supportsStatistics": false,
 "supportsAdvancedQueries": false,
 "editFieldsInfo": null,
 "ownershipBasedAccessControlForRasters": null,
 "allowComputeTiePoints": false,
 "useStandardizedQueries": true,
 "advancedQueryCapabilities": {
  "useStandardizedQueries": true,
  "supportsStatistics": false,
  "supportsOrderBy": false,
  "supportsDistinct": false,
  "supportsPagination": false
 },
 "spatialReference": {
  "wkid": 102644,
  "latestWkid": 2228
 },
 "resampling": false
}
